BEGIN:VCALENDAR
PRODID:-//github.com/rianjs/ical.net//NONSGML ical.net 4.0//EN
VERSION:2.0
BEGIN:VEVENT
DTEND:20260422T110000Z
DTSTAMP:20260421T233321Z
DTSTART:20260422T080000Z
LOCATION:Alanya
SEQUENCE:0
SUMMARY:Åpen kafe
UID:ec9c7c42-130e-439d-b082-ee712e4bca84
END:VEVENT
BEGIN:VEVENT
DTEND:20260429T110000Z
DTSTAMP:20260421T233321Z
DTSTART:20260429T080000Z
LOCATION:Alanya
SEQUENCE:0
SUMMARY:Åpen kafe
UID:4f3fe304-0c31-46f0-9c8e-0982762f4b68
END:VEVENT
BEGIN:VEVENT
DTEND:20260506T110000Z
DTSTAMP:20260421T233321Z
DTSTART:20260506T080000Z
LOCATION:Alanya
SEQUENCE:0
SUMMARY:Åpen kafe
UID:77a4c2f2-80d4-4d1b-9822-dc7bf0ac6b5f
END:VEVENT
END:VCALENDAR
