BEGIN:VCALENDAR
PRODID:-//github.com/rianjs/ical.net//NONSGML ical.net 4.0//EN
VERSION:2.0
BEGIN:VEVENT
DTEND:20260423T110000Z
DTSTAMP:20260421T233147Z
DTSTART:20260423T090000Z
LOCATION:Alanya
SEQUENCE:0
SUMMARY:Basargruppe
UID:0c42c9cf-d929-4884-a665-aa09137cba3a
END:VEVENT
BEGIN:VEVENT
DTEND:20260430T110000Z
DTSTAMP:20260421T233147Z
DTSTART:20260430T090000Z
LOCATION:Alanya
SEQUENCE:0
SUMMARY:Basargruppe
UID:a3479a8e-8c1a-4b36-9a09-7d77529771ba
END:VEVENT
BEGIN:VEVENT
DTEND:20260507T110000Z
DTSTAMP:20260421T233147Z
DTSTART:20260507T090000Z
LOCATION:Alanya
SEQUENCE:0
SUMMARY:Basargruppe
UID:60b7be12-2ad1-459a-8af8-cef437ebcee9
END:VEVENT
END:VCALENDAR
