BEGIN:VCALENDAR
PRODID:-//github.com/rianjs/ical.net//NONSGML ical.net 4.0//EN
VERSION:2.0
BEGIN:VEVENT
DTEND:20260427T120000Z
DTSTAMP:20260425T191408Z
DTSTART:20260427T090000Z
LOCATION:Tenerife
SEQUENCE:0
SUMMARY:Åpen kirke med kafè
UID:99272c25-7d76-4d86-9f23-79c2c8a8188b
END:VEVENT
BEGIN:VEVENT
DTEND:20260430T120000Z
DTSTAMP:20260425T191408Z
DTSTART:20260430T090000Z
LOCATION:Tenerife
SEQUENCE:0
SUMMARY:Åpen kirke med kafè
UID:711a7294-f22f-4d46-90c8-93accf0f2793
END:VEVENT
BEGIN:VEVENT
DTEND:20260501T120000Z
DTSTAMP:20260425T191408Z
DTSTART:20260501T090000Z
LOCATION:Tenerife
SEQUENCE:0
SUMMARY:Åpen kirke med kafè
UID:d56fe65f-ff0f-4c6a-a64a-1c0a7ae6967c
END:VEVENT
END:VCALENDAR
