BEGIN:VCALENDAR
PRODID:-//github.com/rianjs/ical.net//NONSGML ical.net 4.0//EN
VERSION:2.0
BEGIN:VEVENT
DTEND:20260423T110000Z
DTSTAMP:20260421T233153Z
DTSTART:20260423T090000Z
LOCATION:Alanya
SEQUENCE:0
SUMMARY:Vaktmestergruppe
UID:19d383c4-cf62-4504-bf3b-76b6ed4e8c04
END:VEVENT
BEGIN:VEVENT
DTEND:20260430T110000Z
DTSTAMP:20260421T233153Z
DTSTART:20260430T090000Z
LOCATION:Alanya
SEQUENCE:0
SUMMARY:Vaktmestergruppe
UID:95ff65f8-2673-4c21-9855-6ed0524d12fb
END:VEVENT
BEGIN:VEVENT
DTEND:20260507T110000Z
DTSTAMP:20260421T233153Z
DTSTART:20260507T090000Z
LOCATION:Alanya
SEQUENCE:0
SUMMARY:Vaktmestergruppe
UID:f921f985-6209-4166-b4cc-41927c654536
END:VEVENT
END:VCALENDAR
