BEGIN:VCALENDAR
PRODID:-//github.com/rianjs/ical.net//NONSGML ical.net 4.0//EN
VERSION:2.0
BEGIN:VEVENT
DTEND:20260425T100000Z
DTSTAMP:20260421T233153Z
DTSTART:20260425T090000Z
LOCATION:Alanya
SEQUENCE:0
SUMMARY:Lørdagsgrøt
UID:00e8bffc-ad56-4b9a-aaa2-6460f8e67420
END:VEVENT
BEGIN:VEVENT
DTEND:20260502T100000Z
DTSTAMP:20260421T233153Z
DTSTART:20260502T090000Z
LOCATION:Alanya
SEQUENCE:0
SUMMARY:Lørdagsgrøt
UID:caa5dd27-8d33-44f8-916b-0687b7e3dfd5
END:VEVENT
BEGIN:VEVENT
DTEND:20260509T100000Z
DTSTAMP:20260421T233153Z
DTSTART:20260509T090000Z
LOCATION:Alanya
SEQUENCE:0
SUMMARY:Lørdagsgrøt
UID:f859c94c-4d8f-445b-8f98-bb2eb0963edb
END:VEVENT
END:VCALENDAR
