BEGIN:VCALENDAR
PRODID:-//github.com/rianjs/ical.net//NONSGML ical.net 4.0//EN
VERSION:2.0
BEGIN:VEVENT
DTEND:20260426T160000Z
DTSTAMP:20260421T233212Z
DTSTART:20260426T150000Z
LOCATION:Alanya
SEQUENCE:0
SUMMARY:Gudstjeneste /m kirkekaffe
UID:88bc25f6-c45f-4eb5-82a7-4b9431d23352
END:VEVENT
BEGIN:VEVENT
DTEND:20260503T160000Z
DTSTAMP:20260421T233212Z
DTSTART:20260503T150000Z
LOCATION:Alanya
SEQUENCE:0
SUMMARY:Gudstjeneste /m kirkekaffe
UID:65cbe42e-016f-425a-aa18-acef3586ebe2
END:VEVENT
BEGIN:VEVENT
DTEND:20260510T160000Z
DTSTAMP:20260421T233212Z
DTSTART:20260510T150000Z
LOCATION:Alanya
SEQUENCE:0
SUMMARY:Gudstjeneste /m kirkekaffe
UID:f4a9850c-cb54-435a-b09d-642de3f00180
END:VEVENT
END:VCALENDAR
