BEGIN:VCALENDAR
PRODID:-//github.com/rianjs/ical.net//NONSGML ical.net 4.0//EN
VERSION:2.0
BEGIN:VEVENT
DTEND:20260422T170000Z
DTSTAMP:20260421T233034Z
DTSTART:20260422T150000Z
LOCATION:Alanya
SEQUENCE:0
SUMMARY:Hyggekveld
UID:088fd699-cb73-4e7d-8f96-0cc79f21c78e
END:VEVENT
BEGIN:VEVENT
DTEND:20260429T170000Z
DTSTAMP:20260421T233034Z
DTSTART:20260429T150000Z
LOCATION:Alanya
SEQUENCE:0
SUMMARY:Hyggekveld
UID:028332f0-22a3-4280-bf27-d129eb5dbaa4
END:VEVENT
BEGIN:VEVENT
DTEND:20260506T170000Z
DTSTAMP:20260421T233034Z
DTSTART:20260506T150000Z
LOCATION:Alanya
SEQUENCE:0
SUMMARY:Hyggekveld
UID:33f3f2b1-02f3-4147-9bb7-15870015f892
END:VEVENT
END:VCALENDAR
